BEGIN:VCALENDAR
VERSION:2.0
METHOD:PUBLISH
BEGIN:VEVENT
DTSTAMP:20260424T142901Z
DTSTART:20260815T120000Z
DTEND:20260815T120000Z
SUMMARY:Dufferin Film Festival
LOCATION:Opera House, 87 Broadway, Orangeville, ON
END:VEVENT
END:VCALENDAR
