BEGIN:VCALENDAR
VERSION:2.0
METHOD:PUBLISH
BEGIN:VEVENT
DTSTAMP:20260424T124714Z
DTSTART:20260809T210000Z
DTEND:20260809T210000Z
SUMMARY:Great Canadian Wrestling Live
LOCATION:Orangeville Curling Club, 76 Fifth Avenue, Orangeville ON
END:VEVENT
END:VCALENDAR
