BEGIN:VCALENDAR
VERSION:2.0
METHOD:PUBLISH
BEGIN:VEVENT
DTSTAMP:20260424T143315Z
DTSTART:20260719T200000Z
DTEND:20260720T020000Z
SUMMARY:17th Annual Orangeville Rotary Ribfest
LOCATION:275 Alder Street, Orangeville, ON L9W 5H6
END:VEVENT
END:VCALENDAR
