BEGIN:VCALENDAR
VERSION:2.0
METHOD:PUBLISH
BEGIN:VEVENT
DTSTAMP:20260424T160050Z
DTSTART:20260718T200000Z
DTEND:20260719T020000Z
SUMMARY:17th Annual Orangeville Rotary Ribfest
LOCATION:275 Alder Street, Orangeville, ON L9W 5H6
END:VEVENT
END:VCALENDAR
