BEGIN:VCALENDAR
VERSION:2.0
METHOD:PUBLISH
BEGIN:VEVENT
DTSTAMP:20260424T130015Z
DTSTART:20260717T200000Z
DTEND:20260718T020000Z
SUMMARY:17th Annual Orangeville Rotary Ribfest
LOCATION:275 Alder Street, Orangeville, ON L9W 5H6
END:VEVENT
END:VCALENDAR
