BEGIN:VCALENDAR
VERSION:2.0
METHOD:PUBLISH
BEGIN:VEVENT
DTSTAMP:20260424T124418Z
DTSTART:20260627T130000Z
DTEND:20260627T210000Z
SUMMARY:28th Annual Barry Burman Summer Shootout 
LOCATION:6 Northmen Way, Orangeville, ON
END:VEVENT
END:VCALENDAR
