BEGIN:VCALENDAR
VERSION:2.0
METHOD:PUBLISH
BEGIN:VEVENT
DTSTAMP:20260424T112431Z
DTSTART:20260626T130000Z
DTEND:20260626T210000Z
SUMMARY:28th Annual Barry Burman Summer Shootout 
LOCATION:6 Northmen Way, Orangeville, ON
END:VEVENT
END:VCALENDAR
