BEGIN:VCALENDAR
VERSION:2.0
METHOD:PUBLISH
BEGIN:VEVENT
DTSTAMP:20260424T112508Z
DTSTART:20260620T150000Z
DTEND:20260621T000000Z
SUMMARY:Celebrate Your Awesome
LOCATION:Alexandra Park - 11 Second Street, Orangeville, ON
END:VEVENT
END:VCALENDAR
