BEGIN:VCALENDAR
VERSION:2.0
METHOD:PUBLISH
BEGIN:VEVENT
DTSTAMP:20260424T112139Z
DTSTART:20260524T180000Z
DTEND:20260524T180000Z
SUMMARY:The 70 Mile Yard Sale presented by Theatre Orangeville
LOCATION:Theatre Orangeville, 87 Broadway, Orangeville, ON
END:VEVENT
END:VCALENDAR
