BEGIN:VCALENDAR
VERSION:2.0
METHOD:PUBLISH
BEGIN:VEVENT
DTSTAMP:20260424T100547Z
DTSTART:20260522T230000Z
DTEND:20260522T230000Z
SUMMARY:Go The Distance: A Concert of Journey and Adventure presented by Theatre Orangeville Youth Singers (T.O.Y.S.)
LOCATION:Theatre Orangeville, 87 Broadway, Orangeville, ON
END:VEVENT
END:VCALENDAR
