BEGIN:VCALENDAR
VERSION:2.0
METHOD:PUBLISH
BEGIN:VEVENT
DTSTAMP:20260424T112317Z
DTSTART:20260517T140000Z
DTEND:20260517T190000Z
SUMMARY:Orangeville ComiCon
LOCATION:Orangeville Curling Club, 76 Fifth Avenue, Orangeville ON
END:VEVENT
END:VCALENDAR
