BEGIN:VCALENDAR
VERSION:2.0
METHOD:PUBLISH
BEGIN:VEVENT
DTSTAMP:20260424T101028Z
DTSTART:20260511T230000Z
DTEND:20260511T230000Z
SUMMARY:Orangeville and District Music Festival Gala Concert
LOCATION:Westminster United Church, 247 Broadway, Orangeville
END:VEVENT
END:VCALENDAR
