BEGIN:VCALENDAR
VERSION:2.0
METHOD:PUBLISH
BEGIN:VEVENT
DTSTAMP:20260421T115442Z
DTSTART:20260509T233000Z
DTEND:20260509T233000Z
SUMMARY:I Am Enough presented in partnership with Theatre Orangeville &amp; Coffee Talk Theatre Productions
LOCATION:Theatre Orangeville, 87 Broadway, Orangeville, ON
END:VEVENT
END:VCALENDAR
