BEGIN:VCALENDAR
VERSION:2.0
METHOD:PUBLISH
BEGIN:VEVENT
DTSTAMP:20260422T162534Z
DTSTART:20250927T200000Z
DTEND:20250928T010000Z
SUMMARY:Luna Witches Night Market
LOCATION:Best Western PLUS Orangeville Inn &amp; Suites, 7 Buena Vista Drive, Orangeville, ON
END:VEVENT
END:VCALENDAR
