BEGIN:VCALENDAR
VERSION:2.0
METHOD:PUBLISH
BEGIN:VEVENT
DTSTAMP:20260419T164239Z
DTSTART:20250823T150000Z
DTEND:20250823T150000Z
SUMMARY:The Great Benjamins Circus
LOCATION:Orangeville Fairgrounds, 247090 5th Sideroad, Mono, ON
END:VEVENT
END:VCALENDAR
