BEGIN:VCALENDAR
VERSION:2.0
METHOD:PUBLISH
BEGIN:VEVENT
DTSTAMP:20260419T150303Z
DTSTART:20250809T220000Z
DTEND:20250810T020000Z
SUMMARY:Theatre Orangeville Summer Arts Fest 
LOCATION:87 Broadway, Orangeville, ON
END:VEVENT
END:VCALENDAR
