BEGIN:VCALENDAR
VERSION:2.0
METHOD:PUBLISH
BEGIN:VEVENT
DTSTAMP:20260421T091108Z
DTSTART:20250720T150000Z
DTEND:20250720T230000Z
SUMMARY:16th Annual Orangeville Rotary Ribfest
LOCATION:275 Alder Street, Orangeville, ON L9W 5H6
END:VEVENT
END:VCALENDAR
