BEGIN:VCALENDAR
VERSION:2.0
METHOD:PUBLISH
BEGIN:VEVENT
DTSTAMP:20260421T105417Z
DTSTART:20250719T150000Z
DTEND:20250720T020000Z
SUMMARY:16th Annual Orangeville Rotary Ribfest
LOCATION:275 Alder Street, Orangeville, ON L9W 5H6
END:VEVENT
END:VCALENDAR
