BEGIN:VCALENDAR
VERSION:2.0
METHOD:PUBLISH
BEGIN:VEVENT
DTSTAMP:20260421T121730Z
DTSTART:20250628T120000Z
DTEND:20250628T170000Z
SUMMARY:Orangeville Farmers' Market
LOCATION:Beside Town Hall - 87 Broadway, Orangeville, ON
END:VEVENT
END:VCALENDAR
