BEGIN:VCALENDAR
VERSION:2.0
METHOD:PUBLISH
BEGIN:VEVENT
DTSTAMP:20260421T104543Z
DTSTART:20250621T150000Z
DTEND:20250622T000000Z
SUMMARY:Celebrate Your Awesome
LOCATION:Alexandra Park - 11 Second Street, Orangeville, ON
END:VEVENT
END:VCALENDAR
