BEGIN:VCALENDAR
VERSION:2.0
METHOD:PUBLISH
BEGIN:VEVENT
DTSTAMP:20260421T093656Z
DTSTART:20250608T120000Z
DTEND:20250608T120000Z
SUMMARY:RBC Canadian Open
LOCATION:TPC Toronto at Osprey Valley 18821 Main Street, Caledon, ON L7K 1R1
END:VEVENT
END:VCALENDAR
