BEGIN:VCALENDAR
VERSION:2.0
METHOD:PUBLISH
BEGIN:VEVENT
DTSTAMP:20260424T130050Z
DTSTART:20250601T163000Z
DTEND:20250601T163000Z
SUMMARY:Orangeville Blues &amp; Jazz Festival
LOCATION:11 Second Street, Orangeville, ON
END:VEVENT
END:VCALENDAR
