BEGIN:VCALENDAR
VERSION:2.0
METHOD:PUBLISH
BEGIN:VEVENT
DTSTAMP:20260424T112855Z
DTSTART:20250530T210000Z
DTEND:20250530T210000Z
SUMMARY:Orangeville Blues &amp; Jazz Festival
LOCATION:11 Second Street, Orangeville, ON
END:VEVENT
END:VCALENDAR
