BEGIN:VCALENDAR
VERSION:2.0
METHOD:PUBLISH
BEGIN:VEVENT
DTSTAMP:20260421T105234Z
DTSTART:20250510T220000Z
DTEND:20250511T003000Z
SUMMARY:GCW Live Wrestling!
LOCATION:Orangeville Curling Club, 76 Fifth Avenue, Orangeville, ON
END:VEVENT
END:VCALENDAR
