BEGIN:VCALENDAR
VERSION:2.0
METHOD:PUBLISH
BEGIN:VEVENT
DTSTAMP:20260421T081417Z
DTSTART:20250501T233000Z
DTEND:20250501T233000Z
SUMMARY:I'm in Love with Your Sister
LOCATION:Theatre Orangeville, 87 Broadway, Orangeville, ON
END:VEVENT
END:VCALENDAR
