BEGIN:VCALENDAR
VERSION:2.0
METHOD:PUBLISH
BEGIN:VEVENT
DTSTAMP:20260421T092833Z
DTSTART:20250428T230000Z
DTEND:20250428T230000Z
SUMMARY:Monday Night at the Movies
LOCATION:85 Fifth Avenue, Orangeville
END:VEVENT
END:VCALENDAR
