BEGIN:VCALENDAR
VERSION:2.0
METHOD:PUBLISH
BEGIN:VEVENT
DTSTAMP:20260420T094659Z
DTSTART:20231118T150000Z
DTEND:20231118T210000Z
SUMMARY:Orangeville Christmas Market
LOCATION:247090 5 Sideroad, Mono, ON
END:VEVENT
END:VCALENDAR
