BEGIN:VCALENDAR
VERSION:2.0
METHOD:PUBLISH
BEGIN:VEVENT
DTSTAMP:20260420T094714Z
DTSTART:20231117T223000Z
DTEND:20231118T013000Z
SUMMARY:Joy and Lights Tree Lighting
LOCATION:87 Broadway, Orangeville, ON
END:VEVENT
END:VCALENDAR
