BEGIN:VCALENDAR
VERSION:2.0
METHOD:PUBLISH
BEGIN:VEVENT
DTSTAMP:20260424T133429Z
DTSTART:20230819T150000Z
DTEND:20230819T200000Z
SUMMARY:Taste of Orangeville 
LOCATION:Mill Street, Orangeville, ON
END:VEVENT
END:VCALENDAR
