BEGIN:VCALENDAR
VERSION:2.0
METHOD:PUBLISH
BEGIN:VEVENT
DTSTAMP:20260424T120444Z
DTSTART:20230818T220000Z
DTEND:20230819T020000Z
SUMMARY:In Good Spirits 
LOCATION:Mill Street
END:VEVENT
END:VCALENDAR
