BEGIN:VCALENDAR
VERSION:2.0
METHOD:PUBLISH
BEGIN:VEVENT
DTSTAMP:20260424T110055Z
DTSTART:20230813T140000Z
DTEND:20230813T213000Z
SUMMARY:Elysian Festival
LOCATION:Alder Street Recreation Centre, 275 Alder Street, Orangeville
END:VEVENT
END:VCALENDAR
