BEGIN:VCALENDAR
VERSION:2.0
METHOD:PUBLISH
BEGIN:VEVENT
DTSTAMP:20260424T094313Z
DTSTART:20230812T150000Z
DTEND:20230813T000000Z
SUMMARY:Elysian Festival
LOCATION:Alder Street Recreation Centre, 275 Alder Street, Orangeville
END:VEVENT
END:VCALENDAR
