BEGIN:VCALENDAR
VERSION:2.0
METHOD:PUBLISH
BEGIN:VEVENT
DTSTAMP:20260424T110039Z
DTSTART:20230716T150000Z
DTEND:20230716T230000Z
SUMMARY:Orangeville Rotary Ribfest
LOCATION:275 Alder St, Orangeville, ON
END:VEVENT
END:VCALENDAR
