BEGIN:VCALENDAR
VERSION:2.0
METHOD:PUBLISH
BEGIN:VEVENT
DTSTAMP:20260424T094157Z
DTSTART:20230714T200000Z
DTEND:20230715T020000Z
SUMMARY:Orangeville Rotary Ribfest
LOCATION:275 Alder St, Orangeville, ON
END:VEVENT
END:VCALENDAR
