BEGIN:VCALENDAR
VERSION:2.0
METHOD:PUBLISH
BEGIN:VEVENT
DTSTAMP:20260424T094212Z
DTSTART:20230617T170000Z
DTEND:20230617T170000Z
SUMMARY:Celebrate Your Awesome
LOCATION:Alexandra Park, Orangeville, ON
END:VEVENT
END:VCALENDAR
