BEGIN:VCALENDAR
VERSION:2.0
METHOD:PUBLISH
BEGIN:VEVENT
DTSTAMP:20260424T110659Z
DTSTART:20230604T160000Z
DTEND:20230604T220000Z
SUMMARY:Orangeville Blues &amp; Jazz Festival
LOCATION:11 Second Street, Orangeville, ON
END:VEVENT
END:VCALENDAR
