BEGIN:VCALENDAR
VERSION:2.0
METHOD:PUBLISH
BEGIN:VEVENT
DTSTAMP:20260424T093850Z
DTSTART:20230401T130000Z
DTEND:20230401T170000Z
SUMMARY:Winter Market
LOCATION:87 Broadway, Orangeville, ON 
END:VEVENT
END:VCALENDAR
