BEGIN:VCALENDAR
VERSION:2.0
METHOD:PUBLISH
BEGIN:VEVENT
DTSTAMP:20260424T110351Z
DTSTART:20230326T133000Z
DTEND:20230326T213000Z
SUMMARY:Maple Syrup in the Park
LOCATION:Island Lake Conservation Area, 673067 Hurontario St, Orangeville, ON 
END:VEVENT
END:VCALENDAR
