BEGIN:VCALENDAR
VERSION:2.0
METHOD:PUBLISH
BEGIN:VEVENT
DTSTAMP:20260424T105957Z
DTSTART:20230128T140000Z
DTEND:20230128T180000Z
SUMMARY:Winter Market
LOCATION:87 Broadway, Orangeville, ON 
END:VEVENT
END:VCALENDAR
