BEGIN:VCALENDAR
VERSION:2.0
METHOD:PUBLISH
BEGIN:VEVENT
DTSTAMP:20260421T094003Z
DTSTART:20220905T120000Z
DTEND:20220905T170000Z
SUMMARY:Island Lake Classic 
LOCATION:673067 Hurontario St, Orangeville, ON 
END:VEVENT
END:VCALENDAR
