BEGIN:VCALENDAR
VERSION:2.0
METHOD:PUBLISH
BEGIN:VEVENT
DTSTAMP:20260421T094041Z
DTSTART:20220903T130000Z
DTEND:20220904T030000Z
SUMMARY:Orangeville Fair
LOCATION:247090 Side Rd 5, Mono, ON 
END:VEVENT
END:VCALENDAR
