BEGIN:VCALENDAR
VERSION:2.0
METHOD:PUBLISH
BEGIN:VEVENT
DTSTAMP:20260421T115900Z
DTSTART:20220821T150000Z
DTEND:20220821T150000Z
SUMMARY:RAM Rodeo Tour
LOCATION:247090 Side Rd 5, Mono, ON 
END:VEVENT
END:VCALENDAR
