BEGIN:VCALENDAR
VERSION:2.0
METHOD:PUBLISH
BEGIN:VEVENT
DTSTAMP:20260421T093615Z
DTSTART:20220820T160000Z
DTEND:20220820T160000Z
SUMMARY:RAM Rodeo Tour
LOCATION:247090 Side Rd 5, Mono, ON 
END:VEVENT
END:VCALENDAR
