BEGIN:VCALENDAR
VERSION:2.0
METHOD:PUBLISH
BEGIN:VEVENT
DTSTAMP:20260421T082627Z
DTSTART:20220820T150000Z
DTEND:20220820T200000Z
SUMMARY:Taste of Orangeville 
LOCATION:Mill Street, Orangeville, ON
END:VEVENT
END:VCALENDAR
