BEGIN:VCALENDAR
VERSION:2.0
METHOD:PUBLISH
BEGIN:VEVENT
DTSTAMP:20260421T120221Z
DTSTART:20220813T150000Z
DTEND:20220814T034500Z
SUMMARY:Summer Arts Festival
LOCATION:Mount Alverno Luxury Resorts, 20706 Heart Lake Rd, Caledon Village, ON 
END:VEVENT
END:VCALENDAR
