BEGIN:VCALENDAR
VERSION:2.0
METHOD:PUBLISH
BEGIN:VEVENT
DTSTAMP:20260421T120231Z
DTSTART:20220812T180000Z
DTEND:20220813T023000Z
SUMMARY:Summer Arts Festival
LOCATION:Mount Alverno Luxury Resorts, 20706 Heart Lake Rd, Caledon Village, ON 
END:VEVENT
END:VCALENDAR
