BEGIN:VCALENDAR
VERSION:2.0
METHOD:PUBLISH
BEGIN:VEVENT
DTSTAMP:20260421T082227Z
DTSTART:20220810T214500Z
DTEND:20220811T030000Z
SUMMARY:Summer Arts Festival
LOCATION:Mount Alverno Luxury Resorts, 20706 Heart Lake Rd, Caledon Village, ON 
END:VEVENT
END:VCALENDAR
