BEGIN:VCALENDAR
VERSION:2.0
METHOD:PUBLISH
BEGIN:VEVENT
DTSTAMP:20260421T130930Z
DTSTART:20220717T150000Z
DTEND:20220717T230000Z
SUMMARY:Orangeville Rotary Ribfest
LOCATION:275 Alder St, Orangeville, ON
END:VEVENT
END:VCALENDAR
