BEGIN:VCALENDAR
VERSION:2.0
METHOD:PUBLISH
BEGIN:VEVENT
DTSTAMP:20260421T120156Z
DTSTART:20220716T150000Z
DTEND:20220717T020000Z
SUMMARY:Orangeville Rotary Ribfest
LOCATION:275 Alder St, Orangeville, ON
END:VEVENT
END:VCALENDAR
