BEGIN:VCALENDAR
VERSION:2.0
METHOD:PUBLISH
BEGIN:VEVENT
DTSTAMP:20260421T093908Z
DTSTART:20220715T200000Z
DTEND:20220716T020000Z
SUMMARY:Orangeville Rotary Ribfest
LOCATION:275 Alder St, Orangeville, ON
END:VEVENT
END:VCALENDAR
